BEGIN:VCALENDAR
VERSION:2.0
PRODID:-//Celtic Days - ECPv6.15.14//NONSGML v1.0//EN
CALSCALE:GREGORIAN
METHOD:PUBLISH
X-WR-CALNAME:Celtic Days
X-ORIGINAL-URL:https://celtic-days.de
X-WR-CALDESC:Veranstaltungen für Celtic Days
REFRESH-INTERVAL;VALUE=DURATION:PT1H
X-Robots-Tag:noindex
X-PUBLISHED-TTL:PT1H
BEGIN:VTIMEZONE
TZID:Europe/Berlin
BEGIN:DAYLIGHT
TZOFFSETFROM:+0100
TZOFFSETTO:+0200
TZNAME:CEST
DTSTART:20210328T010000
END:DAYLIGHT
BEGIN:STANDARD
TZOFFSETFROM:+0200
TZOFFSETTO:+0100
TZNAME:CET
DTSTART:20211031T010000
END:STANDARD
BEGIN:DAYLIGHT
TZOFFSETFROM:+0100
TZOFFSETTO:+0200
TZNAME:CEST
DTSTART:20220327T010000
END:DAYLIGHT
BEGIN:STANDARD
TZOFFSETFROM:+0200
TZOFFSETTO:+0100
TZNAME:CET
DTSTART:20221030T010000
END:STANDARD
BEGIN:DAYLIGHT
TZOFFSETFROM:+0100
TZOFFSETTO:+0200
TZNAME:CEST
DTSTART:20230326T010000
END:DAYLIGHT
BEGIN:STANDARD
TZOFFSETFROM:+0200
TZOFFSETTO:+0100
TZNAME:CET
DTSTART:20231029T010000
END:STANDARD
END:VTIMEZONE
BEGIN:VEVENT
DTSTART;TZID=Europe/Berlin:20220424T110000
DTEND;TZID=Europe/Berlin:20220424T130000
DTSTAMP:20260419T175936
CREATED:20220302T160923Z
LAST-MODIFIED:20220302T161136Z
UID:1982-1650798000-1650805200@celtic-days.de
SUMMARY:Dia-Show Cornwall & Schottland
DESCRIPTION:
URL:https://celtic-days.de/event/dia-show-cornwall-schottland/
LOCATION:Peter-Ustinov-Schule\, Vielstedter Kirchweg 15\, Hude\, 27798\, Deutschland
CATEGORIES:Vortrag
ORGANIZER;CN="Pro Musica Activa e.V.":MAILTO:info@pro-musica-activa.de
END:VEVENT
BEGIN:VEVENT
DTSTART;TZID=Europe/Berlin:20220423T200000
DTEND;TZID=Europe/Berlin:20220423T220000
DTSTAMP:20260419T175936
CREATED:20220227T221830Z
LAST-MODIFIED:20220301T161819Z
UID:1892-1650744000-1650751200@celtic-days.de
SUMMARY:Iontach
DESCRIPTION:
URL:https://celtic-days.de/event/iontach/
LOCATION:Kulturhof Hude\, Parkstraße 106\, Hude\, 27798\, Deutschland
CATEGORIES:Konzert
ORGANIZER;CN="Pro Musica Activa e.V.":MAILTO:info@pro-musica-activa.de
END:VEVENT
BEGIN:VEVENT
DTSTART;TZID=Europe/Berlin:20220423T093000
DTEND;TZID=Europe/Berlin:20220423T160000
DTSTAMP:20260419T175936
CREATED:20220302T163523Z
LAST-MODIFIED:20220302T163523Z
UID:2005-1650706200-1650729600@celtic-days.de
SUMMARY:Workshop: Scottish Country Dance
DESCRIPTION:
URL:https://celtic-days.de/event/workshop-scottish-country-dance/
LOCATION:Peter-Ustinov-Schule\, Vielstedter Kirchweg 15\, Hude\, 27798\, Deutschland
CATEGORIES:Tanz,Workshop
ORGANIZER;CN="Pro Musica Activa e.V.":MAILTO:info@pro-musica-activa.de
END:VEVENT
BEGIN:VEVENT
DTSTART;TZID=Europe/Berlin:20220423T090000
DTEND;TZID=Europe/Berlin:20220423T160000
DTSTAMP:20260419T175936
CREATED:20220302T165932Z
LAST-MODIFIED:20220302T165932Z
UID:2036-1650704400-1650729600@celtic-days.de
SUMMARY:Workshop: Tin Whistle
DESCRIPTION:
URL:https://celtic-days.de/event/workshop-tin-whistle/
LOCATION:Peter-Ustinov-Schule\, Vielstedter Kirchweg 15\, Hude\, 27798\, Deutschland
CATEGORIES:Workshop
ORGANIZER;CN="Pro Musica Activa e.V.":MAILTO:info@pro-musica-activa.de
END:VEVENT
BEGIN:VEVENT
DTSTART;TZID=Europe/Berlin:20220423T090000
DTEND;TZID=Europe/Berlin:20220423T160000
DTSTAMP:20260419T175936
CREATED:20220302T165556Z
LAST-MODIFIED:20220302T165556Z
UID:2030-1650704400-1650729600@celtic-days.de
SUMMARY:Workshop: Irish Fiddle
DESCRIPTION:
URL:https://celtic-days.de/event/workshop-irish-fiddle/
LOCATION:Peter-Ustinov-Schule\, Vielstedter Kirchweg 15\, Hude\, 27798\, Deutschland
CATEGORIES:Workshop
ORGANIZER;CN="Pro Musica Activa e.V.":MAILTO:info@pro-musica-activa.de
END:VEVENT
BEGIN:VEVENT
DTSTART;TZID=Europe/Berlin:20220423T090000
DTEND;TZID=Europe/Berlin:20220423T160000
DTSTAMP:20260419T175936
CREATED:20220302T165116Z
LAST-MODIFIED:20220302T165116Z
UID:2023-1650704400-1650729600@celtic-days.de
SUMMARY:Workshop: Gitarre (Standard)
DESCRIPTION:
URL:https://celtic-days.de/event/workshop-gitarre-standard/
LOCATION:Peter-Ustinov-Schule\, Vielstedter Kirchweg 15\, Hude\, 27798\, Deutschland
CATEGORIES:Workshop
ORGANIZER;CN="Pro Musica Activa e.V.":MAILTO:info@pro-musica-activa.de
END:VEVENT
BEGIN:VEVENT
DTSTART;TZID=Europe/Berlin:20220423T090000
DTEND;TZID=Europe/Berlin:20220423T160000
DTSTAMP:20260419T175936
CREATED:20220302T164636Z
LAST-MODIFIED:20220302T164636Z
UID:2020-1650704400-1650729600@celtic-days.de
SUMMARY:Workshop: Gitarre (DADGAD)
DESCRIPTION:
URL:https://celtic-days.de/event/workshop-gitarre-dadgad/
LOCATION:Peter-Ustinov-Schule\, Vielstedter Kirchweg 15\, Hude\, 27798\, Deutschland
CATEGORIES:Workshop
ORGANIZER;CN="Pro Musica Activa e.V.":MAILTO:info@pro-musica-activa.de
END:VEVENT
BEGIN:VEVENT
DTSTART;TZID=Europe/Berlin:20220423T090000
DTEND;TZID=Europe/Berlin:20220423T160000
DTSTAMP:20260419T175936
CREATED:20220302T164203Z
LAST-MODIFIED:20220302T164203Z
UID:2014-1650704400-1650729600@celtic-days.de
SUMMARY:Workshop: Bodhran
DESCRIPTION:
URL:https://celtic-days.de/event/workshop-bodhran/
LOCATION:Peter-Ustinov-Schule\, Vielstedter Kirchweg 15\, Hude\, 27798\, Deutschland
CATEGORIES:Workshop
ORGANIZER;CN="Pro Musica Activa e.V.":MAILTO:info@pro-musica-activa.de
END:VEVENT
BEGIN:VEVENT
DTSTART;TZID=Europe/Berlin:20220422T200000
DTEND;TZID=Europe/Berlin:20220422T220000
DTSTAMP:20260419T175936
CREATED:20220226T225524Z
LAST-MODIFIED:20220421T145348Z
UID:1875-1650657600-1650664800@celtic-days.de
SUMMARY:Anger & Plush
DESCRIPTION:
URL:https://celtic-days.de/event/anger-plush/
LOCATION:Kulturhof Hude\, Parkstraße 106\, Hude\, 27798\, Deutschland
CATEGORIES:Konzert
ORGANIZER;CN="Pro Musica Activa e.V.":MAILTO:info@pro-musica-activa.de
END:VEVENT
BEGIN:VEVENT
DTSTART;TZID=Europe/Berlin:20220422T160000
DTEND;TZID=Europe/Berlin:20220422T190000
DTSTAMP:20260419T175936
CREATED:20220302T153410Z
LAST-MODIFIED:20220315T143947Z
UID:1953-1650643200-1650654000@celtic-days.de
SUMMARY:Social - Ein schottischer Tanz-Abend
DESCRIPTION:
URL:https://celtic-days.de/event/social-ein-schottischer-tanz-abend/
LOCATION:Grundschule Jägerstraße\, Jägerstraße 22\, Hude\, 27798\, Deutschland
CATEGORIES:Tanz
ORGANIZER;CN="Pro Musica Activa e.V.":MAILTO:info@pro-musica-activa.de
END:VEVENT
BEGIN:VEVENT
DTSTART;TZID=Europe/Berlin:20220421T220000
DTEND;TZID=Europe/Berlin:20220421T230000
DTSTAMP:20260419T175936
CREATED:20220421T143737Z
LAST-MODIFIED:20220421T145045Z
UID:2418-1650578400-1650582000@celtic-days.de
SUMMARY:Elvis Presley
DESCRIPTION:
URL:https://celtic-days.de/event/elvis-presley/
LOCATION:Peter-Ustinov-Schule\, Vielstedter Kirchweg 15\, Hude\, 27798\, Deutschland
CATEGORIES:Konzert
ORGANIZER;CN="Pro Musica Activa e.V.":MAILTO:info@pro-musica-activa.de
END:VEVENT
END:VCALENDAR